BEGIN:VCALENDAR
VERSION:2.0
PRODID:-//Tukios.com/
BEGIN:VEVENT
UID:b17d9f40-583d-4c77-a2c6-b38f3d113899@obits.robinsonfuneralhomes.com
DTSTAMP:20260425T172305Z
DTSTART:20260429T143000Z
DTEND:20260429T153000Z
SUMMARY:Graveside Service
DESCRIPTION:
URL:https://obits.robinsonfuneralhomes.com/clara-ruth-clemens
LOCATION:Old Stone Church Cemetery 101 Stone Cir  Clemson SC 29631
GEO:34.6644342;-82.8152702
END:VEVENT
END:VCALENDAR