BEGIN:VCALENDAR
VERSION:2.0
PRODID:-//Tukios.com/
BEGIN:VEVENT
UID:4e07b3e2-9fff-4fa0-a58d-2c9ae6507147@obits.robinsonfuneralhomes.com
DTSTAMP:20260421T003552Z
DTSTART:20260425T140000Z
DTEND:20260425T144500Z
SUMMARY:Memorial Service
DESCRIPTION:
URL:https://obits.robinsonfuneralhomes.com/col-tyler-huneycutt-iii
LOCATION: 346 Old Greenville Hwy  Clemson SC 29631
GEO:34.6806537;-82.8173539
END:VEVENT
END:VCALENDAR