BEGIN:VCALENDAR
VERSION:2.0
PRODID:-//Tukios.com/
BEGIN:VEVENT
UID:d188fc0a-44c1-43ca-b541-c505afff256f@obits.robinsonfuneralhomes.com
DTSTAMP:20260421T003552Z
DTSTART:20260425T144500Z
DTEND:20260425T154500Z
SUMMARY:Visitation
DESCRIPTION:
URL:https://obits.robinsonfuneralhomes.com/col-tyler-huneycutt-iii
LOCATION: 346 Old Greenville Hwy  Clemson SC 29631
GEO:34.6806537;-82.8173539
END:VEVENT
END:VCALENDAR