BEGIN:VCALENDAR
VERSION:2.0
PRODID:-//Tukios.com/
BEGIN:VEVENT
UID:494c4fb7-fba9-4ec5-9f31-3da572204a83@obits.robinsonfuneralhomes.com
DTSTAMP:20260421T003838Z
DTSTART:20260425T160000Z
DTEND:20260425T170000Z
SUMMARY:Inurnment
DESCRIPTION:
URL:https://obits.robinsonfuneralhomes.com/col-tyler-huneycutt-iii
LOCATION: 586 Issaqueena Trail  Central SC 29630
GEO:34.687057;-82.786375
END:VEVENT
END:VCALENDAR