BEGIN:VCALENDAR
VERSION:2.0
PRODID:-//Tukios.com/
BEGIN:VEVENT
UID:10c6191d-e16d-4045-bc46-06ca124276fe@obits.robinsonfuneralhomes.com
DTSTAMP:20260420T170945Z
DTSTART:20260425T180000Z
DTEND:20260425T184500Z
SUMMARY:Visitation
DESCRIPTION:
URL:https://obits.robinsonfuneralhomes.com/gary-boozer
LOCATION:Robinson Funeral Home - Powdersville Road 1425 Powdersville Rd  
	Easley SC 29642
GEO:34.8098957;-82.5411996
END:VEVENT
END:VCALENDAR