BEGIN:VCALENDAR
VERSION:2.0
PRODID:-//Tukios.com/
BEGIN:VEVENT
UID:84bc1724-6b6c-4ba4-a482-e4a2103913de@obits.robinsonfuneralhomes.com
DTSTAMP:20260420T171415Z
DTSTART:20260425T190000Z
DTEND:20260425T200000Z
SUMMARY:Memorial Service
DESCRIPTION:
URL:https://obits.robinsonfuneralhomes.com/gary-boozer
LOCATION:Robinson Funeral Home - Powdersville Road 1425 Powdersville Rd  
	Easley SC 29642
GEO:34.8098957;-82.5411996
END:VEVENT
END:VCALENDAR