BEGIN:VCALENDAR
VERSION:2.0
PRODID:-//Tukios.com/
BEGIN:VEVENT
UID:60d84b01-122b-481c-b783-aef951937c93@obits.robinsonfuneralhomes.com
DTSTAMP:20260421T230011Z
DTSTART:20260426T163000Z
DTEND:20260426T174500Z
SUMMARY:Visitation
DESCRIPTION:
URL:https://obits.robinsonfuneralhomes.com/jessica-hollingsworth
LOCATION: 305 West Main Street  Easley SC 29641
GEO:34.8287066;-82.6061737
END:VEVENT
END:VCALENDAR