BEGIN:VCALENDAR
VERSION:2.0
PRODID:-//Tukios.com/
BEGIN:VEVENT
UID:a818a94e-ee2c-4017-8cd4-5f9a10e42ce2@obits.robinsonfuneralhomes.com
DTSTAMP:20260421T225445Z
DTSTART:20260426T190000Z
DTEND:20260426T200000Z
SUMMARY:Celebration of Life
DESCRIPTION:
URL:https://obits.robinsonfuneralhomes.com/jessica-hollingsworth
LOCATION: 305 W Main St  Easley SC 29640
GEO:34.8287066;-82.6061737
END:VEVENT
END:VCALENDAR