BEGIN:VCALENDAR
VERSION:2.0
PRODID:-//Tukios.com/
BEGIN:VEVENT
UID:a8a413cf-ea08-412f-b037-b2358fa769cb@obits.robinsonfuneralhomes.com
DTSTAMP:20260422T222613Z
DTSTART:20260502T150000Z
DTEND:20260502T170000Z
SUMMARY:Celebration of Life
DESCRIPTION:
URL:https://obits.robinsonfuneralhomes.com/kathryn-pearson
LOCATION:The Williams House of Robinson Funeral Home 108 South 1st Street 
	 Easley SC 29640
GEO:34.8281995;-82.6059447
END:VEVENT
END:VCALENDAR