BEGIN:VCALENDAR
VERSION:2.0
PRODID:-//Tukios.com/
BEGIN:VEVENT
UID:4eb70d6b-a328-423b-a48b-9f37aab14da6@obits.robinsonfuneralhomes.com
DTSTAMP:20260424T234842Z
DTSTART:20260501T180000Z
DTEND:20260501T184500Z
SUMMARY:Visitation
DESCRIPTION:
URL:https://obits.robinsonfuneralhomes.com/pheobe-rollins
LOCATION:Easley Presbyterian Church 200 S 1st St  Easley SC 29640
GEO:34.8274148;-82.6060892
END:VEVENT
END:VCALENDAR