BEGIN:VCALENDAR
VERSION:2.0
PRODID:-//Tukios.com/
BEGIN:VEVENT
UID:e8cb1379-1644-4022-82b4-d4ea9a2c16ba@obits.robinsonfuneralhomes.com
DTSTAMP:20260424T234805Z
DTSTART:20260501T190000Z
DTEND:20260501T200000Z
SUMMARY:Funeral Service
DESCRIPTION:
URL:https://obits.robinsonfuneralhomes.com/pheobe-rollins
LOCATION:Easley Presbyterian Church 200 S 1st St  Easley SC 29640
GEO:34.8274148;-82.6060892
END:VEVENT
END:VCALENDAR