BEGIN:VCALENDAR
VERSION:2.0
PRODID:-//Tukios.com/
BEGIN:VEVENT
UID:920db3f6-6121-41e5-a524-f260cd90dfc4@obits.robinsonfuneralhomes.com
DTSTAMP:20260422T222613Z
DTSTART:20260430T170000Z
DTEND:20260430T180000Z
SUMMARY:Visitation
DESCRIPTION:
URL:https://obits.robinsonfuneralhomes.com/rosa-gibson
LOCATION: 108 Cross Creek Road  Central SC 29630
GEO:34.7144841;-82.7885132
END:VEVENT
END:VCALENDAR