BEGIN:VCALENDAR
VERSION:2.0
PRODID:-//Tukios.com/
BEGIN:VEVENT
UID:6eefb392-8408-41d5-9d97-3aefb121ecda@obits.robinsonfuneralhomes.com
DTSTAMP:20260422T222201Z
DTSTART:20260430T180000Z
DTEND:20260430T190000Z
SUMMARY:Memorial Service
DESCRIPTION:
URL:https://obits.robinsonfuneralhomes.com/rosa-gibson
LOCATION: 108 Cross Creek Road  Central SC 29630
GEO:34.7144841;-82.7885132
END:VEVENT
END:VCALENDAR